BEGIN:VCALENDAR
VERSION:2.0
PRODID:-//Vail Dance Festival //NONSGML Events //EN
CALSCALE:GREGORIAN
X-WR-CALNAME:Vail Dance Festival
BEGIN:VEVENT
CREATED:20250225T173017Z
UID:10910
DTEND;VALUE=DATE:20250804T193000
DTSTART;VALUE=DATE:20250804T193000
DTSTAMP:20260421T201439Z
LOCATION:
DESCRIPTION:<h4><strong>GERALD R. FORD AMPHITHEATER</strong></h4>   <p class="text-lg">NOW: Premieres is the Festival’s annual showcase of new commissioned dance works, all making their debut on one legendary night, performed by an extraordinary cast of dancers and musicians. This season’s choreographers include <strong>Robert Battle</strong>*, <strong>Gilbert Bolden III</strong>, a collaboration between <strong>Michelle Dorrance</strong>, <strong>Bobbi Jene Smith</strong>, and <strong>Damian Woetzel</strong>, <strong>Ja Collective</strong>, <strong>Justin Peck</strong>, <strong>Gianna Reisen</strong>*, <strong>My’Kal Stromile</strong>*, <strong>Pam Tanowitz</strong>, and <strong>Melissa Toogood</strong>.</p> <a class="btn btn-blue" href="https://vaildance.org/wp-content/uploads/2025/08/8.4-Now-Premieres_web.pdf" target="_blank" rel="noopener"><strong>TONIGHT'S PROGRAM</strong></a> <hr /> <p class="text-lg text-teal"><a href="https://www.youtube.com/live/QjRm6-MmUhI" target="_blank" rel="noopener"><strong>YOUTUBE LIVESTREAM</strong></a></p> <p class="text-lg">We hope you will join us in-person for our amazing closing night performance, but if you are unable to make it, you'll have the opportunity to tune in on our <strong><a href="https://www.youtube.com/live/QjRm6-MmUhI" target="_blank" rel="noopener">YouTube</a></strong> channel! Subscribe to our channel today to be notified once the stream goes live.</p> <hr /> <em>Generously Underwritten by the <strong>Vail Dance Festival Artistic Reserve Fund</strong> made possible by the <strong>Doris Duke Foundation</strong>.</em> <em>*Festival debut.    </em> <hr /> <em>Photo credit: Isabella Boylston, Melissa Toogood, Calvin Royal III, and Spencer Lenain with Caroline Shaw and Brooklyn Rider in Pam Tanowitz's new work "'secret story ballet'" at NOW: Premieres at the 2024 Vail Dance Festival. Photo by Christopher Duggan.</em>
SUMMARY:NOW: Premieres
ORGANIZER:Vail Dance Festival
URL;VALUE=URI:https://vaildance.org/event/now-premieres-2025/
TRANSP:OPAQUE
BEGIN:VALARM
ACTION:DISPLAY
TRIGGER;VALUE=DATE-TIME:20250804T193000
DESCRIPTION:Reminder for NOW: Premieres
END:VALARM
END:VEVENT
END:VCALENDAR
