BEGIN:VCALENDAR
VERSION:2.0
PRODID:-//Vail Dance Festival //NONSGML Events //EN
CALSCALE:GREGORIAN
X-WR-CALNAME:Vail Dance Festival
BEGIN:VEVENT
CREATED:20240219T123159Z
UID:9498
DTEND;VALUE=DATE:20240731T180000
DTSTART;VALUE=DATE:20240731T180000
DTSTAMP:20260424T061831Z
LOCATION:
DESCRIPTION:<h3><strong>VILAR PERFORMING ARTS CENTER</strong></h3> <p class="text-lg">A made-for-Vail tap dance experience, Dorrance Dances: An Evening with Michelle Dorrance and Friends follows the unique journey of this vital American art form in a program created, hosted, and headlined by “MacArthur Genius” Michelle Dorrance, alongside a gathering of some of the most brilliant tap dancers of today.</p> <em>Generously Underwritten in part by</em> <strong>The Marvin Naiman and Margery Goldman Family Foundation.</strong> <a class="btn btn-teal" href="https://vaildance.org/wp-content/uploads/2024/07/7.31-Dorrance-Dancesweb.pdf" target="_blank" rel="noopener"><strong>PRINTED PROGRAM</strong></a> <em><strong>C</strong></em><em style="font-weight: bold;">asting and repertory are subject to change.</em> <hr /> <em>Photo credit: Michelle Dorrance in rehearsal. Photo by Erin Baiano.</em>
SUMMARY:Dorrance Dances
ORGANIZER:Vail Dance Festival
URL;VALUE=URI:https://vaildance.org/event/dorrancedance/
TRANSP:OPAQUE
BEGIN:VALARM
ACTION:DISPLAY
TRIGGER;VALUE=DATE-TIME:20240731T180000
DESCRIPTION:Reminder for Dorrance Dances
END:VALARM
END:VEVENT
END:VCALENDAR
