BEGIN:VCALENDAR
VERSION:2.0
PRODID:-//Vail Dance Festival //NONSGML Events //EN
CALSCALE:GREGORIAN
X-WR-CALNAME:Vail Dance Festival
BEGIN:VEVENT
CREATED:20220322T211036Z
UID:6366
DTEND;VALUE=DATE:20220807T180000
DTSTART;VALUE=DATE:20220807T180000
DTSTAMP:20260425T155138Z
LOCATION:
DESCRIPTION:<h4 class="text-blue">VILAR PERFORMING ARTS CENTER</h4> <span style="font-weight: 400;">Making their world debut last summer, DanceAspen has risen as a new collective of professional dancers from the former Aspen Santa Fe Ballet – breathing new life and resiliency into the arts community of the nearby Roaring Fork Valley and across the Centennial State. The company will present innovative new works from their burgeoning and impressive repertoire at the Vilar Performing Arts Center.</span> <em>Generously Underwritten by Susan & Jeff Campbell.</em> <a class="btn btn-blue" href="https://vaildance.org/wp-content/uploads/2022/03/8.7-DANCEASPEN.pdf" target="_blank" rel="noopener">SEE OFFICIAL PROGRAM</a> <hr /> <h5><strong>PROGRAM:</strong></h5> <i><span data-contrast="auto">Begin Again</span></i><span data-contrast="auto"> </span><span data-ccp-props="{"201341983":0,"335551550":1,"335551620":1,"335559739":160,"335559740":259}"> </span> <span data-contrast="auto">Music: Michael Wall - Flight Not Fled</span><span data-ccp-props="{"201341983":0,"335551550":1,"335551620":1,"335559739":160,"335559740":259}"> </span> <span data-contrast="auto">Choreography: Matthew Gillmore, DanceAspen artist, and Julliard Alumni</span><span data-ccp-props="{"201341983":0,"335551550":1,"335551620":1,"335559739":160,"335559740":259}"> </span> <span data-contrast="auto">Dancers: Samantha Altenau, Katherine Bolanos, and Matthew Gilmore</span> <i><span data-contrast="auto">Next To</span></i><span data-contrast="auto"> </span><span data-ccp-props="{"201341983":0,"335551550":1,"335551620":1,"335559739":160,"335559740":259}"> </span> <span data-contrast="auto">Music: "Clouded Street Sign" by Michael Wall </span><span data-ccp-props="{"201341983":0,"335551550":1,"335551620":1,"335559739":160,"335559740":259}"> </span> <span data-contrast="auto">Choreography: Penny Saunders </span> <span data-contrast="auto">Dancers: Marian Faustino, Madeline Scott  </span> <i><span data-contrast="auto">For Pixie</span></i><span data-contrast="auto"> </span><span data-ccp-props="{"201341983":0,"335551550":1,"335551620":1,"335559739":160,"335559740":259}"> </span> <span data-contrast="auto">Music: "Wild Is The Wind" by Nina Simone</span><span data-ccp-props="{"201341983":0,"335551550":1,"335551620":1,"335559739":160,"335559740":259}"> </span> <span data-contrast="auto">Choreography: Danielle Rowe </span><span data-ccp-props="{"201341983":0,"335551550":1,"335551620":1,"335559739":160,"335559740":259}"> </span> <span data-contrast="auto">Dancers: Kaya Wolsey, Myles Woolstenhulme </span><span data-ccp-props="{"201341983":0,"335551550":1,"335551620":1,"335559739":160,"335559740":259}"> </span> <span data-contrast="auto"> </span><span data-ccp-props="{"201341983":0,"335551550":1,"335551620":1,"335559739":160,"335559740":259}"> </span> <i><span data-contrast="auto">Press Play</span></i><span data-contrast="auto"> </span><span data-ccp-props="{"201341983":0,"335551550":1,"335551620":1,"335559739":160,"335559740":259}"> </span> <span data-contrast="auto">Music:  "The Rockafeller Skank" by Fatboy Slim</span><span data-ccp-props="{"201341983":0,"335551550":1,"335551620":1,"335559739":160,"335559740":259}"> </span> <span data-contrast="auto">Choreography: Caili Quan </span><span data-ccp-props="{"201341983":0,"335551550":1,"335551620":1,"335559739":160,"335559740":259}"> </span> <span data-contrast="auto">Dancers: Sammy Alteanu, Marian Faustino, Madeleine Scott, Kaya Wolsey </span> <i>in the end</i> <span data-contrast="auto">Music: Maurice Ravel-Kaddish; played live by Mintze Wu</span> <span data-contrast="auto">Choreography: Matthew Gilmore </span><span data-ccp-props="{"201341983":0,"335551550":1,"335551620":1,"335559739":160,"335559740":259}"> </span> <span data-contrast="auto">Dancers: Katherine Bolanos, Blake Kraples </span><span data-ccp-props="{"201341983":0,"335551550":1,"335551620":1,"335559739":160,"335559740":259}"> </span> <i><span data-contrast="auto">This will be the retirement show for Katherine Bolanos. Katherine danced with Aspen Santa Fe Ballet for 18 years and is a DanceAspen Founding Artist.  </span></i><span data-contrast="auto"> </span><span data-ccp-props="{"201341983":0,"335551550":1,"335551620":1,"335559739":160,"335559740":259}"> </span> <i><span data-contrast="auto">Everyone’s in St. Barth’s</span></i><span data-contrast="auto"> </span><span data-ccp-props="{"201341983":0,"335551550":1,"335551620":1,"335559739":160,"335559740":259}"> </span> <span data-contrast="auto">Music: Piano Concerto in A Major; Metropolis Ensemble</span> <span data-contrast="auto">Choreography: Danielle Rowe </span><span data-ccp-props="{"201341983":0,"335551550":1,"335551620":1,"335559739":160,"335559740":259}"> </span> <span data-contrast="auto">Dancers: Sammy Alteanu, Katherine Bolanos, Matthew Gilmore, Madeline Scott, Kaya Wolsey, Myles Woolstenhulme</span><span data-ccp-props="{"201341983":0,"335551550":1,"335551620":1,"335559739":160,"335559740":259}"> </span> <strong><em>Casting and repertory are subject to change.</em></strong> <hr /> <em>Photo credit: DanceAspen performs St. Barths. Photo by Beau Pearson.</em>
SUMMARY:DanceAspen
ORGANIZER:Vail Dance Festival
URL;VALUE=URI:https://vaildance.org/event/danceaspen-2022/
TRANSP:OPAQUE
BEGIN:VALARM
ACTION:DISPLAY
TRIGGER;VALUE=DATE-TIME:20220807T180000
DESCRIPTION:Reminder for DanceAspen
END:VALARM
END:VEVENT
END:VCALENDAR
